BEGIN:VCALENDAR
VERSION:2.0
PRODID:-//American Association for Geriatric Psychiatry - ECPv6.6.4.2//NONSGML v1.0//EN
CALSCALE:GREGORIAN
METHOD:PUBLISH
X-WR-CALNAME:American Association for Geriatric Psychiatry
X-ORIGINAL-URL:https://aagponline.org
X-WR-CALDESC:Events for American Association for Geriatric Psychiatry
REFRESH-INTERVAL;VALUE=DURATION:PT1H
X-Robots-Tag:noindex
X-PUBLISHED-TTL:PT1H
BEGIN:VTIMEZONE
TZID:America/New_York
BEGIN:DAYLIGHT
TZOFFSETFROM:-0500
TZOFFSETTO:-0400
TZNAME:EDT
DTSTART:20240310T070000
END:DAYLIGHT
BEGIN:STANDARD
TZOFFSETFROM:-0400
TZOFFSETTO:-0500
TZNAME:EST
DTSTART:20241103T060000
END:STANDARD
BEGIN:DAYLIGHT
TZOFFSETFROM:-0500
TZOFFSETTO:-0400
TZNAME:EDT
DTSTART:20250309T070000
END:DAYLIGHT
BEGIN:STANDARD
TZOFFSETFROM:-0400
TZOFFSETTO:-0500
TZNAME:EST
DTSTART:20251102T060000
END:STANDARD
END:VTIMEZONE
BEGIN:VEVENT
DTSTART;TZID=America/New_York:20250522T170000
DTEND;TZID=America/New_York:20250522T180000
DTSTAMP:20260420T110014
CREATED:20250514T214740Z
LAST-MODIFIED:20250514T215132Z
UID:10000192-1747933200-1747936800@aagponline.org
SUMMARY:Board of Directors Monthly Meeting
DESCRIPTION:The AAGP Baord of Board of Directors meets in the 4th Thursday of each month from 5:00 pm - 6:00 pm EST. Please contact  info@aagponline.org for any questions.
URL:https://aagponline.org/event/board-of-directors-monthly-meeting/2025-05-22/
END:VEVENT
BEGIN:VEVENT
DTSTART;TZID=America/New_York:20250509T110000
DTEND;TZID=America/New_York:20250509T120000
DTSTAMP:20260420T110014
CREATED:20240510T135219Z
LAST-MODIFIED:20240510T135220Z
UID:10000024-1746788400-1746792000@aagponline.org
SUMMARY:AAGP/APA Monthly Update
DESCRIPTION:For more information\, please reach out to info@aagponline.org
URL:https://aagponline.org/event/aagp-apa-monthly-update-2/2025-05-09/
END:VEVENT
BEGIN:VEVENT
DTSTART;TZID=America/New_York:20250411T110000
DTEND;TZID=America/New_York:20250411T120000
DTSTAMP:20260420T110014
CREATED:20240510T135219Z
LAST-MODIFIED:20240510T135220Z
UID:10000023-1744369200-1744372800@aagponline.org
SUMMARY:AAGP/APA Monthly Update
DESCRIPTION:For more information\, please reach out to info@aagponline.org
URL:https://aagponline.org/event/aagp-apa-monthly-update-2/2025-04-11/
END:VEVENT
BEGIN:VEVENT
DTSTART;TZID=America/New_York:20250325T190000
DTEND;TZID=America/New_York:20250325T200000
DTSTAMP:20260420T110014
CREATED:20240425T164052Z
LAST-MODIFIED:20240425T164052Z
UID:10000101-1742929200-1742932800@aagponline.org
SUMMARY:Geriatric Mental Health Certificate Task Force Meeting
DESCRIPTION:For more information\, please reach out to Info@AAGPonline.org.
URL:https://aagponline.org/event/geriatric-mental-health-certificate-task-force-meeting/2025-03-25/
CATEGORIES:Online
END:VEVENT
BEGIN:VEVENT
DTSTART;TZID=America/New_York:20250314T110000
DTEND;TZID=America/New_York:20250314T120000
DTSTAMP:20260420T110014
CREATED:20240510T135219Z
LAST-MODIFIED:20240510T135220Z
UID:10000022-1741950000-1741953600@aagponline.org
SUMMARY:AAGP/APA Monthly Update
DESCRIPTION:For more information\, please reach out to info@aagponline.org
URL:https://aagponline.org/event/aagp-apa-monthly-update-2/2025-03-14/
END:VEVENT
BEGIN:VEVENT
DTSTART;TZID=America/New_York:20250225T190000
DTEND;TZID=America/New_York:20250225T200000
DTSTAMP:20260420T110014
CREATED:20240425T164052Z
LAST-MODIFIED:20240425T164052Z
UID:10000100-1740510000-1740513600@aagponline.org
SUMMARY:Geriatric Mental Health Certificate Task Force Meeting
DESCRIPTION:For more information\, please reach out to Info@AAGPonline.org.
URL:https://aagponline.org/event/geriatric-mental-health-certificate-task-force-meeting/2025-02-25/
CATEGORIES:Online
END:VEVENT
BEGIN:VEVENT
DTSTART;TZID=America/New_York:20250214T110000
DTEND;TZID=America/New_York:20250214T120000
DTSTAMP:20260420T110014
CREATED:20240510T135219Z
LAST-MODIFIED:20240510T135220Z
UID:10000021-1739530800-1739534400@aagponline.org
SUMMARY:AAGP/APA Monthly Update
DESCRIPTION:For more information\, please reach out to info@aagponline.org
URL:https://aagponline.org/event/aagp-apa-monthly-update-2/2025-02-14/
END:VEVENT
BEGIN:VEVENT
DTSTART;TZID=America/New_York:20250128T190000
DTEND;TZID=America/New_York:20250128T200000
DTSTAMP:20260420T110014
CREATED:20240425T164052Z
LAST-MODIFIED:20240425T164052Z
UID:10000099-1738090800-1738094400@aagponline.org
SUMMARY:Geriatric Mental Health Certificate Task Force Meeting
DESCRIPTION:For more information\, please reach out to Info@AAGPonline.org.
URL:https://aagponline.org/event/geriatric-mental-health-certificate-task-force-meeting/2025-01-28/
CATEGORIES:Online
END:VEVENT
BEGIN:VEVENT
DTSTART;TZID=America/New_York:20250110T110000
DTEND;TZID=America/New_York:20250110T120000
DTSTAMP:20260420T110014
CREATED:20240510T135219Z
LAST-MODIFIED:20240510T135220Z
UID:10000020-1736506800-1736510400@aagponline.org
SUMMARY:AAGP/APA Monthly Update
DESCRIPTION:For more information\, please reach out to info@aagponline.org
URL:https://aagponline.org/event/aagp-apa-monthly-update-2/2025-01-10/
END:VEVENT
BEGIN:VEVENT
DTSTART;TZID=America/New_York:20241231T190000
DTEND;TZID=America/New_York:20241231T200000
DTSTAMP:20260420T110014
CREATED:20240425T164052Z
LAST-MODIFIED:20240425T164052Z
UID:10000098-1735671600-1735675200@aagponline.org
SUMMARY:Geriatric Mental Health Certificate Task Force Meeting
DESCRIPTION:For more information\, please reach out to Info@AAGPonline.org.
URL:https://aagponline.org/event/geriatric-mental-health-certificate-task-force-meeting/2024-12-31/
CATEGORIES:Online
END:VEVENT
BEGIN:VEVENT
DTSTART;TZID=America/New_York:20241213T110000
DTEND;TZID=America/New_York:20241213T120000
DTSTAMP:20260420T110014
CREATED:20240510T135219Z
LAST-MODIFIED:20240510T135220Z
UID:10000019-1734087600-1734091200@aagponline.org
SUMMARY:AAGP/APA Monthly Update
DESCRIPTION:For more information\, please reach out to info@aagponline.org
URL:https://aagponline.org/event/aagp-apa-monthly-update-2/2024-12-13/
END:VEVENT
BEGIN:VEVENT
DTSTART;TZID=America/New_York:20241126T190000
DTEND;TZID=America/New_York:20241126T200000
DTSTAMP:20260420T110014
CREATED:20240425T164052Z
LAST-MODIFIED:20240425T164052Z
UID:10000097-1732647600-1732651200@aagponline.org
SUMMARY:Geriatric Mental Health Certificate Task Force Meeting
DESCRIPTION:For more information\, please reach out to Info@AAGPonline.org.
URL:https://aagponline.org/event/geriatric-mental-health-certificate-task-force-meeting/2024-11-26/
CATEGORIES:Online
END:VEVENT
BEGIN:VEVENT
DTSTART;TZID=America/New_York:20241108T110000
DTEND;TZID=America/New_York:20241108T120000
DTSTAMP:20260420T110014
CREATED:20240510T135219Z
LAST-MODIFIED:20240510T135220Z
UID:10000018-1731063600-1731067200@aagponline.org
SUMMARY:AAGP/APA Monthly Update
DESCRIPTION:For more information\, please reach out to info@aagponline.org
URL:https://aagponline.org/event/aagp-apa-monthly-update-2/2024-11-08/
END:VEVENT
BEGIN:VEVENT
DTSTART;TZID=America/New_York:20241029T190000
DTEND;TZID=America/New_York:20241029T200000
DTSTAMP:20260420T110014
CREATED:20240425T164052Z
LAST-MODIFIED:20240425T164052Z
UID:10000096-1730228400-1730232000@aagponline.org
SUMMARY:Geriatric Mental Health Certificate Task Force Meeting
DESCRIPTION:For more information\, please reach out to Info@AAGPonline.org.
URL:https://aagponline.org/event/geriatric-mental-health-certificate-task-force-meeting/2024-10-29/
CATEGORIES:Online
END:VEVENT
BEGIN:VEVENT
DTSTART;TZID=America/New_York:20241011T110000
DTEND;TZID=America/New_York:20241011T120000
DTSTAMP:20260420T110014
CREATED:20240510T135219Z
LAST-MODIFIED:20240510T135220Z
UID:10000017-1728644400-1728648000@aagponline.org
SUMMARY:AAGP/APA Monthly Update
DESCRIPTION:For more information\, please reach out to info@aagponline.org
URL:https://aagponline.org/event/aagp-apa-monthly-update-2/2024-10-11/
END:VEVENT
BEGIN:VEVENT
DTSTART;TZID=America/New_York:20240924T190000
DTEND;TZID=America/New_York:20240924T200000
DTSTAMP:20260420T110014
CREATED:20240425T164052Z
LAST-MODIFIED:20240425T164052Z
UID:10000095-1727204400-1727208000@aagponline.org
SUMMARY:Geriatric Mental Health Certificate Task Force Meeting
DESCRIPTION:For more information\, please reach out to Info@AAGPonline.org.
URL:https://aagponline.org/event/geriatric-mental-health-certificate-task-force-meeting/2024-09-24/
CATEGORIES:Online
END:VEVENT
BEGIN:VEVENT
DTSTART;TZID=America/New_York:20240913T110000
DTEND;TZID=America/New_York:20240913T120000
DTSTAMP:20260420T110014
CREATED:20240510T135219Z
LAST-MODIFIED:20240510T135220Z
UID:10000016-1726225200-1726228800@aagponline.org
SUMMARY:AAGP/APA Monthly Update
DESCRIPTION:For more information\, please reach out to info@aagponline.org
URL:https://aagponline.org/event/aagp-apa-monthly-update-2/2024-09-13/
END:VEVENT
BEGIN:VEVENT
DTSTART;TZID=America/New_York:20240827T190000
DTEND;TZID=America/New_York:20240827T200000
DTSTAMP:20260420T110014
CREATED:20240425T164052Z
LAST-MODIFIED:20240425T164052Z
UID:10000094-1724785200-1724788800@aagponline.org
SUMMARY:Geriatric Mental Health Certificate Task Force Meeting
DESCRIPTION:For more information\, please reach out to Info@AAGPonline.org.
URL:https://aagponline.org/event/geriatric-mental-health-certificate-task-force-meeting/2024-08-27/
CATEGORIES:Online
END:VEVENT
BEGIN:VEVENT
DTSTART;TZID=America/New_York:20240809T110000
DTEND;TZID=America/New_York:20240809T120000
DTSTAMP:20260420T110014
CREATED:20240510T135219Z
LAST-MODIFIED:20240510T135220Z
UID:10000015-1723201200-1723204800@aagponline.org
SUMMARY:AAGP/APA Monthly Update
DESCRIPTION:For more information\, please reach out to info@aagponline.org
URL:https://aagponline.org/event/aagp-apa-monthly-update-2/2024-08-09/
END:VEVENT
BEGIN:VEVENT
DTSTART;TZID=America/New_York:20240730T190000
DTEND;TZID=America/New_York:20240730T200000
DTSTAMP:20260420T110014
CREATED:20240425T164052Z
LAST-MODIFIED:20240425T164052Z
UID:10000093-1722366000-1722369600@aagponline.org
SUMMARY:Geriatric Mental Health Certificate Task Force Meeting
DESCRIPTION:For more information\, please reach out to Info@AAGPonline.org.
URL:https://aagponline.org/event/geriatric-mental-health-certificate-task-force-meeting/2024-07-30/
CATEGORIES:Online
END:VEVENT
BEGIN:VEVENT
DTSTART;TZID=America/New_York:20240712T110000
DTEND;TZID=America/New_York:20240712T120000
DTSTAMP:20260420T110014
CREATED:20240510T135219Z
LAST-MODIFIED:20240510T135220Z
UID:10000014-1720782000-1720785600@aagponline.org
SUMMARY:AAGP/APA Monthly Update
DESCRIPTION:For more information\, please reach out to info@aagponline.org
URL:https://aagponline.org/event/aagp-apa-monthly-update-2/2024-07-12/
END:VEVENT
BEGIN:VEVENT
DTSTART;TZID=America/New_York:20240626T183000
DTEND;TZID=America/New_York:20240626T193000
DTSTAMP:20260420T110014
CREATED:20240422T185643Z
LAST-MODIFIED:20240723T172515Z
UID:10000079-1719426600-1719430200@aagponline.org
SUMMARY:AAGP Board of Director's Meeting
DESCRIPTION:AAGP Board of Director's Meeting\, 6:30-7:30 pm Eastern. Contact info@aagponline.org
URL:https://aagponline.org/event/aagp-board-of-directors-meeting/2024-06-26/
CATEGORIES:Online
END:VEVENT
BEGIN:VEVENT
DTSTART;TZID=America/New_York:20240625T190000
DTEND;TZID=America/New_York:20240625T200000
DTSTAMP:20260420T110014
CREATED:20240425T164052Z
LAST-MODIFIED:20240425T164052Z
UID:10000092-1719342000-1719345600@aagponline.org
SUMMARY:Geriatric Mental Health Certificate Task Force Meeting
DESCRIPTION:For more information\, please reach out to Info@AAGPonline.org.
URL:https://aagponline.org/event/geriatric-mental-health-certificate-task-force-meeting/2024-06-25/
CATEGORIES:Online
END:VEVENT
BEGIN:VEVENT
DTSTART;TZID=America/New_York:20240614T110000
DTEND;TZID=America/New_York:20240614T120000
DTSTAMP:20260420T110014
CREATED:20240510T135219Z
LAST-MODIFIED:20240510T135220Z
UID:10000012-1718362800-1718366400@aagponline.org
SUMMARY:AAGP/APA Monthly Update
DESCRIPTION:For more information\, please reach out to info@aagponline.org
URL:https://aagponline.org/event/aagp-apa-monthly-update-2/2024-06-14/
END:VEVENT
BEGIN:VEVENT
DTSTART;TZID=America/New_York:20240611T180000
DTEND;TZID=America/New_York:20240611T190000
DTSTAMP:20260420T110014
CREATED:20240506T150000Z
LAST-MODIFIED:20240506T150502Z
UID:10000104-1718128800-1718132400@aagponline.org
SUMMARY:AAGP Research Committee Meeting
DESCRIPTION:We will provide some AAGP updates and plans for the 2025 Annual meeting \nJoin: https://uvmcom.zoom.us/j/96295783986?from=addon
URL:https://aagponline.org/event/aagp-research-committee-meeting/
END:VEVENT
BEGIN:VEVENT
DTSTART;TZID=America/New_York:20240528T190000
DTEND;TZID=America/New_York:20240528T200000
DTSTAMP:20260420T110014
CREATED:20240425T164052Z
LAST-MODIFIED:20240425T164052Z
UID:10000091-1716922800-1716926400@aagponline.org
SUMMARY:Geriatric Mental Health Certificate Task Force Meeting
DESCRIPTION:For more information\, please reach out to Info@AAGPonline.org.
URL:https://aagponline.org/event/geriatric-mental-health-certificate-task-force-meeting/2024-05-28/
CATEGORIES:Online
END:VEVENT
BEGIN:VEVENT
DTSTART;TZID=America/New_York:20240522T183000
DTEND;TZID=America/New_York:20240522T193000
DTSTAMP:20260420T110014
CREATED:20240422T185643Z
LAST-MODIFIED:20240723T172515Z
UID:10000078-1716402600-1716406200@aagponline.org
SUMMARY:AAGP Board of Director's Meeting
DESCRIPTION:AAGP Board of Director's Meeting\, 6:30-7:30 pm Eastern. Contact info@aagponline.org
URL:https://aagponline.org/event/aagp-board-of-directors-meeting/2024-05-22/
CATEGORIES:Online
END:VEVENT
BEGIN:VEVENT
DTSTART;TZID=America/New_York:20240522T130000
DTEND;TZID=America/New_York:20240522T140000
DTSTAMP:20260420T110014
CREATED:20240422T193935Z
LAST-MODIFIED:20240422T211017Z
UID:10000089-1716382800-1716386400@aagponline.org
SUMMARY:AAGP Public Policy Committee Quarterly Meeting
DESCRIPTION:AAGP Public Policy Committee Quarterly Meeting. \nJoin Zoom Meeting \nhttps://zoom.us/j/95015975690?pwd=WXVxZExTTyszVkk4Um5zcGR1eTB5dz09 \n\nMeeting ID: 950 1597 5690\nPasscode: 694833\n\nPlease reach out info@aagponline.org for more information.
URL:https://aagponline.org/event/aagp-public-policy-committee-quarterly-meeting/
END:VEVENT
BEGIN:VEVENT
DTSTART;TZID=America/New_York:20240513T190000
DTEND;TZID=America/New_York:20240513T200000
DTSTAMP:20260420T110014
CREATED:20240429T173525Z
LAST-MODIFIED:20240506T204217Z
UID:10000103-1715626800-1715630400@aagponline.org
SUMMARY:International Medical Graduates Interest Group Meeting
DESCRIPTION:Please join us for a remote IMG Interest Group meeting on Monday\, May13th from 7pm-8pm. The agenda is to facilitate a meeting place for IMGs in geriatric psychiatry and discuss the role and opportunities for IMGs in geriatric psychiatry\, challenges unique to IMGs and ways to overcome barriers. \n\n\n\n\n\nPlease use the link below: \n\n\nhttps://yale.zoom.us/j/92638851379 \n\n\n\n\n\nHope to see many of you there. Please reach out to me at agupta.aarti@gmail.com if you have any questions.
URL:https://aagponline.org/event/international-medical-graduates-caucus-meeting/
CATEGORIES:Online
END:VEVENT
BEGIN:VEVENT
DTSTART;TZID=America/New_York:20240430T190000
DTEND;TZID=America/New_York:20240430T200000
DTSTAMP:20260420T110014
CREATED:20240425T164052Z
LAST-MODIFIED:20240425T164052Z
UID:10000090-1714503600-1714507200@aagponline.org
SUMMARY:Geriatric Mental Health Certificate Task Force Meeting
DESCRIPTION:For more information\, please reach out to Info@AAGPonline.org.
URL:https://aagponline.org/event/geriatric-mental-health-certificate-task-force-meeting/2024-04-30/
CATEGORIES:Online
END:VEVENT
END:VCALENDAR